BEGIN:VCALENDAR
VERSION:2.0
PRODID:-//CSNN National Page - ECPv6.15.19//NONSGML v1.0//EN
CALSCALE:GREGORIAN
METHOD:PUBLISH
X-WR-CALNAME:CSNN National Page
X-ORIGINAL-URL:https://csnn.ca
X-WR-CALDESC:Events for CSNN National Page
REFRESH-INTERVAL;VALUE=DURATION:PT1H
X-Robots-Tag:noindex
X-PUBLISHED-TTL:PT1H
BEGIN:VTIMEZONE
TZID:America/Edmonton
BEGIN:DAYLIGHT
TZOFFSETFROM:-0700
TZOFFSETTO:-0600
TZNAME:MDT
DTSTART:20250309T090000
END:DAYLIGHT
BEGIN:STANDARD
TZOFFSETFROM:-0600
TZOFFSETTO:-0700
TZNAME:MST
DTSTART:20251102T080000
END:STANDARD
BEGIN:DAYLIGHT
TZOFFSETFROM:-0700
TZOFFSETTO:-0600
TZNAME:MDT
DTSTART:20260308T090000
END:DAYLIGHT
BEGIN:STANDARD
TZOFFSETFROM:-0600
TZOFFSETTO:-0700
TZNAME:MST
DTSTART:20261101T080000
END:STANDARD
BEGIN:DAYLIGHT
TZOFFSETFROM:-0700
TZOFFSETTO:-0600
TZNAME:MDT
DTSTART:20270314T090000
END:DAYLIGHT
BEGIN:STANDARD
TZOFFSETFROM:-0600
TZOFFSETTO:-0700
TZNAME:MST
DTSTART:20271107T080000
END:STANDARD
END:VTIMEZONE
BEGIN:VEVENT
DTSTART;TZID=America/Edmonton:20260602T100000
DTEND;TZID=America/Edmonton:20260602T133000
DTSTAMP:20260422T183342
CREATED:20240502T182049Z
LAST-MODIFIED:20260210T203413Z
UID:32272-1780394400-1780407000@csnn.ca
SUMMARY:AN122B Childhood Epidemic Health Issues Workshop
DESCRIPTION:CSNN Calgary is excited to offer the Advanced Pediatric Certificate exclusively to CSNN Grads! This certificate is comprised of 2 workshops: Part 1 Pediatric Symptomatology and Part 2 Childhood Epidemic Health Issues. The certificate will be 19.5 hours total. Receive a certificate after successful completion of each workshop plus a specialty certificate upon completion of a certificate package. \nDelivery Method: Live Online Virtual Classroom (Zoom) \nPart 2: Childhood Epidemic Health Issues \n\nDates: June 2\, 4\, 8\nTime: 10:00am – 1:30pm MST\nExam: June 16\, 2026\n\nThis course was developed due to the epidemic in many illnesses that are affecting the health of our children. Illnesses such as allergies\, asthma\, learning and behavioural disorders\, feeding problems\, and obesity have become more prevalent and have reached alarming rates in children of all ages. Understanding the root issues of these illnesses and the future health effects on children is important to be able to address the nutritional imbalances and develop the necessary program to help families. \nCEUs: 3.2 | Association Upgrade Hours (CAHN-Pro & CANNP): 10.5 hours \nTo start the registration process\, please click here. \nEmail: info@csnncal.ca
URL:https://csnn.ca/event/an122b-calgary/
CATEGORIES:CSNN Calgary
ATTACH;FMTTYPE=image/jpeg:https://csnn.ca/wp-content/uploads/2024/05/CAL-AHN-AN122B-june-2026.jpg
END:VEVENT
END:VCALENDAR