BEGIN:VCALENDAR
VERSION:2.0
PRODID:-//CSNN National Page - ECPv6.15.19//NONSGML v1.0//EN
CALSCALE:GREGORIAN
METHOD:PUBLISH
X-WR-CALNAME:CSNN National Page
X-ORIGINAL-URL:https://csnn.ca
X-WR-CALDESC:Events for CSNN National Page
REFRESH-INTERVAL;VALUE=DURATION:PT1H
X-Robots-Tag:noindex
X-PUBLISHED-TTL:PT1H
BEGIN:VTIMEZONE
TZID:America/Edmonton
BEGIN:DAYLIGHT
TZOFFSETFROM:-0700
TZOFFSETTO:-0600
TZNAME:MDT
DTSTART:20250309T090000
END:DAYLIGHT
BEGIN:STANDARD
TZOFFSETFROM:-0600
TZOFFSETTO:-0700
TZNAME:MST
DTSTART:20251102T080000
END:STANDARD
BEGIN:DAYLIGHT
TZOFFSETFROM:-0700
TZOFFSETTO:-0600
TZNAME:MDT
DTSTART:20260308T090000
END:DAYLIGHT
BEGIN:STANDARD
TZOFFSETFROM:-0600
TZOFFSETTO:-0700
TZNAME:MST
DTSTART:20261101T080000
END:STANDARD
BEGIN:DAYLIGHT
TZOFFSETFROM:-0700
TZOFFSETTO:-0600
TZNAME:MDT
DTSTART:20270314T090000
END:DAYLIGHT
BEGIN:STANDARD
TZOFFSETFROM:-0600
TZOFFSETTO:-0700
TZNAME:MST
DTSTART:20271107T080000
END:STANDARD
END:VTIMEZONE
BEGIN:VEVENT
DTSTART;TZID=America/Edmonton:20260519T100000
DTEND;TZID=America/Edmonton:20260519T130000
DTSTAMP:20260416T203737
CREATED:20240502T181926Z
LAST-MODIFIED:20260210T201832Z
UID:32268-1779184800-1779195600@csnn.ca
SUMMARY:AN122A Pediatric Symptomatology Workshop
DESCRIPTION:CSNN Calgary is excited to offer the NEW Advanced Pediatric Certificate exclusively to CSNN Grads! This certificate is comprised of 2 workshops: Part 1 Pediatric Symptomatology and Part 2 Childhood Epidemic Health Issues. The certificate will be 19.5 hours total. Receive a certificate after successful completion of each workshop plus a specialty certificate upon completion of a certificate package. \nDelivery Method: Live Online Virtual Classroom (Zoom) \nPart 1: Pediatric Symptomatology \n\nDates: May 19\, 21\, 26\nTime: 10:00am  – 1:00pm MST\n\nDesigned to provide students the understanding of how to use our new unique pediatric intake forms and assess a child’s nutritional needs. Students will learn motivational interviewing skills regarding consulting families\, parents\, and children. Students will also learn the importance of working with other healthcare professionals when consulting children and their parents and when referrals are necessary. This course also covers the legal implications of consulting children. \nCEUs: 3.0 | Association Upgrade Hours (CAHN-Pro & CANNP): 9 hours \nStart the registration process here. \nEmail: info@csnncal.ca
URL:https://csnn.ca/event/an122a-ped-sympto-calgary/
CATEGORIES:CSNN Calgary
ATTACH;FMTTYPE=image/jpeg:https://csnn.ca/wp-content/uploads/2024/05/CAL-AHN-AN122A-may2026.jpg
END:VEVENT
END:VCALENDAR