BEGIN:VCALENDAR
VERSION:2.0
PRODID:-//CSNN National Page - ECPv6.15.20//NONSGML v1.0//EN
CALSCALE:GREGORIAN
METHOD:PUBLISH
X-WR-CALNAME:CSNN National Page
X-ORIGINAL-URL:https://csnn.ca
X-WR-CALDESC:Events for CSNN National Page
REFRESH-INTERVAL;VALUE=DURATION:PT1H
X-Robots-Tag:noindex
X-PUBLISHED-TTL:PT1H
BEGIN:VTIMEZONE
TZID:America/Edmonton
BEGIN:DAYLIGHT
TZOFFSETFROM:-0700
TZOFFSETTO:-0600
TZNAME:MDT
DTSTART:20240310T090000
END:DAYLIGHT
BEGIN:STANDARD
TZOFFSETFROM:-0600
TZOFFSETTO:-0700
TZNAME:MST
DTSTART:20241103T080000
END:STANDARD
BEGIN:DAYLIGHT
TZOFFSETFROM:-0700
TZOFFSETTO:-0600
TZNAME:MDT
DTSTART:20250309T090000
END:DAYLIGHT
BEGIN:STANDARD
TZOFFSETFROM:-0600
TZOFFSETTO:-0700
TZNAME:MST
DTSTART:20251102T080000
END:STANDARD
BEGIN:DAYLIGHT
TZOFFSETFROM:-0700
TZOFFSETTO:-0600
TZNAME:MDT
DTSTART:20260308T090000
END:DAYLIGHT
BEGIN:STANDARD
TZOFFSETFROM:-0600
TZOFFSETTO:-0700
TZNAME:MST
DTSTART:20261101T080000
END:STANDARD
END:VTIMEZONE
BEGIN:VEVENT
DTSTART;TZID=America/Edmonton:20250911T193000
DTEND;TZID=America/Edmonton:20250911T203000
DTSTAMP:20260422T215054
CREATED:20230823T173244Z
LAST-MODIFIED:20250910T143547Z
UID:29973-1757619000-1757622600@csnn.ca
SUMMARY:Free Virtual Class - CSNN Edmonton
DESCRIPTION:Join us on Tuesday\, September 11 from 7:30pm – 8:30pm MST for Virtual Free Class on Anxiety & Digestion. \nJoin Madison Properzi C.H.N.C. for this free class on anxiety & digestion where you’ll get nutrition and lifestyle tips to help you navigate life felling less anxious. Plus\, she’ll walk you through the connection between your digestion and that little anxious monster in your gut. \nRegister Here
URL:https://csnn.ca/event/anxiety-digestion-edm-class-sept11/
CATEGORIES:CSNN Edmonton,Open House
ATTACH;FMTTYPE=image/jpeg:https://csnn.ca/wp-content/uploads/2023/08/EDM-Sept-11-Anxiety-and-Digestion.jpg
END:VEVENT
BEGIN:VEVENT
DTSTART;TZID=America/Edmonton:20250917T190000
DTEND;TZID=America/Edmonton:20250917T210000
DTSTAMP:20260422T215054
CREATED:20230626T154058Z
LAST-MODIFIED:20250717T160147Z
UID:29080-1758135600-1758142800@csnn.ca
SUMMARY:Healthy Eating & Lifestyle Certificate - CSNN Edmonton
DESCRIPTION:CSNN Edmonton will be offering the Healthy Eating & Lifestyle Certificate workshops Live Online starting September 17\, 2025. Wednesday Evenings\, 7-9pm MST. \n\nClass #1: Sep 17 – 7:00PM – 9:00PM MST\nClass #2: Sep 24 – 7:00PM – 9:00PM MST\nClass #3: Oct 1 – 7:00PM – 9:00PM MST\nClass #4: Oct 8 – 7:00PM – 9:00PM MST\nClass #5: Oct 15 – 7:00PM – 9:00PM MST\nClass #6: Oct 22 – 7:00PM – 9:00PM MST\nClass #7: Oct 29 – 7:00PM – 9:00PM MST\nClass #8: Nov 5 – 7:00PM – 9:00PM MST\nClass #9: Nov 19 – 7:00PM – 9:00PM MST\nClass #10: Nov 26 – 7:00PM – 9:00PM MST \n\nDiscover a new way to look at food & nutrition from Canada’s largest and leading school of holistic nutrition. A online classroom series that educates you on a overview of nutrition\, which helps you understand how to eat well for yourself and your family. \nAn online classroom series that educates you in a wide variety of nutrition basics. This course is meant to guide you through a variety of topics for simple\, actionable nutrition information. Classes run for a total of 21 hours over 10 weeks. \nContact us at edmonton@csnn.ca if you have any questions. \n[gdlr_core_button button-text=”Click Here to Register” button-link=”https://www.csnn.ca/edmonton/helc-register?_gl=1*a7f30u*_ga*ODQ1ODE2OTg2LjE1Nzg2Nzg3NDc.*_ga_DL5LSXS5S9*czE3NTI3NTc0NTgkbzE4JGcxJHQxNzUyNzY3NzYzJGoxOSRsMCRoMA..” button-link-target=”_blank” margin-right=”20px” ]
URL:https://csnn.ca/event/helc-sept2025/
CATEGORIES:CSNN Edmonton
ATTACH;FMTTYPE=image/jpeg:https://csnn.ca/wp-content/uploads/2023/06/EDM-Sept-2025-HELC.jpg
END:VEVENT
END:VCALENDAR