BEGIN:VCALENDAR
VERSION:2.0
PRODID:-//CSNN National Page - ECPv6.15.19//NONSGML v1.0//EN
CALSCALE:GREGORIAN
METHOD:PUBLISH
X-WR-CALNAME:CSNN National Page
X-ORIGINAL-URL:https://csnn.ca
X-WR-CALDESC:Events for CSNN National Page
REFRESH-INTERVAL;VALUE=DURATION:PT1H
X-Robots-Tag:noindex
X-PUBLISHED-TTL:PT1H
BEGIN:VTIMEZONE
TZID:America/Edmonton
BEGIN:DAYLIGHT
TZOFFSETFROM:-0700
TZOFFSETTO:-0600
TZNAME:MDT
DTSTART:20250309T090000
END:DAYLIGHT
BEGIN:STANDARD
TZOFFSETFROM:-0600
TZOFFSETTO:-0700
TZNAME:MST
DTSTART:20251102T080000
END:STANDARD
BEGIN:DAYLIGHT
TZOFFSETFROM:-0700
TZOFFSETTO:-0600
TZNAME:MDT
DTSTART:20260308T090000
END:DAYLIGHT
BEGIN:STANDARD
TZOFFSETFROM:-0600
TZOFFSETTO:-0700
TZNAME:MST
DTSTART:20261101T080000
END:STANDARD
BEGIN:DAYLIGHT
TZOFFSETFROM:-0700
TZOFFSETTO:-0600
TZNAME:MDT
DTSTART:20270314T090000
END:DAYLIGHT
BEGIN:STANDARD
TZOFFSETFROM:-0600
TZOFFSETTO:-0700
TZNAME:MST
DTSTART:20271107T080000
END:STANDARD
END:VTIMEZONE
BEGIN:VEVENT
DTSTART;TZID=America/Edmonton:20260223T190000
DTEND;TZID=America/Edmonton:20260223T210000
DTSTAMP:20260416T203932
CREATED:20250717T164014Z
LAST-MODIFIED:20251118T155404Z
UID:36092-1771873200-1771880400@csnn.ca
SUMMARY:Healthy Eating & Lifestyle Certificate - CSNN Edmonton
DESCRIPTION:CSNN Edmonton will be offering the Healthy Eating & Lifestyle Certificate workshops Live Online starting February 23\, 2026. Monday Evenings\, 7pm-9pm MST. \n\n\nClass #1: Feb 23 – 7:00PM – 9:00 PM MST\nClass #2: Mar 2 – 7:00PM – 9:00 PM MST\nClass #3: Mar 9 – 7:00PM – 9:00 PM MST\nClass #4: Mar 16 – 7:00PM – 9:00 PM MST\nClass #5: Mar 23 – 7:00PM – 9:00 PM MST\nClass #6: Mar 30 – 7:00PM – 9:00 PM MST\nClass #7: Apr 6 – 7:00PM – 9:00 PM MST\nClass #8: Apr 13 – 7:00PM – 9:00 PM MST\nClass #9: Apr 20 – 7:00PM – 9:00 PM MST\nClass #10: Apr 27 – 7:00PM – 9:00 PM MST \n\n\nDiscover a new way to look at food & nutrition from Canada’s largest and leading school of holistic nutrition. A online classroom series that educates you on a overview of nutrition\, which helps you understand how to eat well for yourself and your family. \nAn online classroom series that educates you in a wide variety of nutrition basics. This course is meant to guide you through a variety of topics for simple\, actionable nutrition information. Classes run for a total of 21 hours over 10 weeks. \nContact us at edmonton@csnn.ca if you have any questions. \nClick Here to Register
URL:https://csnn.ca/event/helc-feb2026-edm-1/
CATEGORIES:CSNN Edmonton
ATTACH;FMTTYPE=image/jpeg:https://csnn.ca/wp-content/uploads/2025/07/EDM-HELC-FEB23-2026.jpg
END:VEVENT
END:VCALENDAR