BEGIN:VCALENDAR
VERSION:2.0
PRODID:-//CSNN National Page - ECPv6.15.19//NONSGML v1.0//EN
CALSCALE:GREGORIAN
METHOD:PUBLISH
X-WR-CALNAME:CSNN National Page
X-ORIGINAL-URL:https://csnn.ca
X-WR-CALDESC:Events for CSNN National Page
REFRESH-INTERVAL;VALUE=DURATION:PT1H
X-Robots-Tag:noindex
X-PUBLISHED-TTL:PT1H
BEGIN:VTIMEZONE
TZID:America/Edmonton
BEGIN:DAYLIGHT
TZOFFSETFROM:-0700
TZOFFSETTO:-0600
TZNAME:MDT
DTSTART:20250309T090000
END:DAYLIGHT
BEGIN:STANDARD
TZOFFSETFROM:-0600
TZOFFSETTO:-0700
TZNAME:MST
DTSTART:20251102T080000
END:STANDARD
BEGIN:DAYLIGHT
TZOFFSETFROM:-0700
TZOFFSETTO:-0600
TZNAME:MDT
DTSTART:20260308T090000
END:DAYLIGHT
BEGIN:STANDARD
TZOFFSETFROM:-0600
TZOFFSETTO:-0700
TZNAME:MST
DTSTART:20261101T080000
END:STANDARD
BEGIN:DAYLIGHT
TZOFFSETFROM:-0700
TZOFFSETTO:-0600
TZNAME:MDT
DTSTART:20270314T090000
END:DAYLIGHT
BEGIN:STANDARD
TZOFFSETFROM:-0600
TZOFFSETTO:-0700
TZNAME:MST
DTSTART:20271107T080000
END:STANDARD
END:VTIMEZONE
BEGIN:VEVENT
DTSTART;TZID=America/Edmonton:20260224T090000
DTEND;TZID=America/Edmonton:20260224T110000
DTSTAMP:20260416T203938
CREATED:20251118T191945Z
LAST-MODIFIED:20251118T192707Z
UID:37188-1771923600-1771930800@csnn.ca
SUMMARY:Healthy Eating & Lifestyle Certificate - CSNN Edmonton
DESCRIPTION:CSNN Edmonton will be offering the Healthy Eating & Lifestyle Certificate workshops Live Online starting February 24\, 2026. Tuesdays\, 9am-11am MST \n\n\nClass #1: Feb 24 – 9:00AM – 11:00 AM MST\nClass #2: Feb 26 – 9:00AM – 11:00 AM MST\nClass #3: Mar 3 – 9:00AM – 11:00 AM MST\nClass #4: Mar 5 – 9:00AM – 11:00 AM MST\nClass #5: Mar 10 – 9:00AM – 11:00 AM MST\nClass #6: Mar 12 – 9:00AM – 11:00 AM MST\nClass #7: Mar 17 – 9:00AM – 11:00 AM MST\nClass #8: Mar 19 – 9:00AM – 11:00 AM MST\nClass #9: Mar 24 – 9:00AM – 11:00 AM MST\nClass #10: Mar 26 – 9:00AM – 11:00 AM MST \n\n\nDiscover a new way to look at food & nutrition from Canada’s largest and leading school of holistic nutrition. A online classroom series that educates you on a overview of nutrition\, which helps you understand how to eat well for yourself and your family. \nAn online classroom series that educates you in a wide variety of nutrition basics. This course is meant to guide you through a variety of topics for simple\, actionable nutrition information. Classes run for a total of 21 hours over 10 weeks. \nContact us at edmonton@csnn.ca if you have any questions. \nClick Here to Register
URL:https://csnn.ca/event/helc-feb2026-edm-2/
CATEGORIES:CSNN Edmonton
ATTACH;FMTTYPE=image/jpeg:https://csnn.ca/wp-content/uploads/2025/11/EDM-HELC-FEB24-2026-1.jpg
END:VEVENT
END:VCALENDAR