BEGIN:VCALENDAR
VERSION:2.0
PRODID:-//CSNN National Page - ECPv6.15.19//NONSGML v1.0//EN
CALSCALE:GREGORIAN
METHOD:PUBLISH
X-WR-CALNAME:CSNN National Page
X-ORIGINAL-URL:https://csnn.ca
X-WR-CALDESC:Events for CSNN National Page
REFRESH-INTERVAL;VALUE=DURATION:PT1H
X-Robots-Tag:noindex
X-PUBLISHED-TTL:PT1H
BEGIN:VTIMEZONE
TZID:America/Toronto
BEGIN:DAYLIGHT
TZOFFSETFROM:-0500
TZOFFSETTO:-0400
TZNAME:EDT
DTSTART:20230312T070000
END:DAYLIGHT
BEGIN:STANDARD
TZOFFSETFROM:-0400
TZOFFSETTO:-0500
TZNAME:EST
DTSTART:20231105T060000
END:STANDARD
BEGIN:DAYLIGHT
TZOFFSETFROM:-0500
TZOFFSETTO:-0400
TZNAME:EDT
DTSTART:20240310T070000
END:DAYLIGHT
BEGIN:STANDARD
TZOFFSETFROM:-0400
TZOFFSETTO:-0500
TZNAME:EST
DTSTART:20241103T060000
END:STANDARD
BEGIN:DAYLIGHT
TZOFFSETFROM:-0500
TZOFFSETTO:-0400
TZNAME:EDT
DTSTART:20250309T070000
END:DAYLIGHT
BEGIN:STANDARD
TZOFFSETFROM:-0400
TZOFFSETTO:-0500
TZNAME:EST
DTSTART:20251102T060000
END:STANDARD
END:VTIMEZONE
BEGIN:VEVENT
DTSTART;TZID=America/Toronto:20240318T080000
DTEND;TZID=America/Toronto:20240318T170000
DTSTAMP:20260422T063822
CREATED:20240214T192820Z
LAST-MODIFIED:20240214T192820Z
UID:31357-1710748800-1710781200@csnn.ca
SUMMARY:Introduction Certificate - CSNN Mississauga
DESCRIPTION:CSNN Mississauga – Starting March 18 \nFundamentals of Nutrition – Part 1 \n\n\n\n\n\n\nThis course offers a comprehensive overview of the field of nutrition\, which expands the link between nutrition and prevention of health illnesses. The course explains the role of macronutrients\, vitamins and minerals\, and the importance of water to overall health. It introduces the importance of proper digestion to one’s health and how certain dietary habits undermine health and provides suggestions for overcoming these habits. It looks at the effect of pollution on our health and the health of our planet. \nClass Schedule: \n\nMonday/Wednesday\, 10:00 a.m. – 1:30 p.m. from March 18th to April 4th\, 2024\n\nTuition Cost: $556.00 + tax \n\nDownload Registration Form\n\nCSNN Mississauga Website
URL:https://csnn.ca/event/introduction-certificate-csnn-mississauga/
CATEGORIES:CSNN Mississauga
ATTACH;FMTTYPE=image/jpeg:https://csnn.ca/wp-content/uploads/2024/02/MISS-Intro-Cert-1-scaled.jpg
END:VEVENT
END:VCALENDAR