BEGIN:VCALENDAR
VERSION:2.0
PRODID:-//CSNN National Page - ECPv6.15.19//NONSGML v1.0//EN
CALSCALE:GREGORIAN
METHOD:PUBLISH
X-WR-CALNAME:CSNN National Page
X-ORIGINAL-URL:https://csnn.ca
X-WR-CALDESC:Events for CSNN National Page
REFRESH-INTERVAL;VALUE=DURATION:PT1H
X-Robots-Tag:noindex
X-PUBLISHED-TTL:PT1H
BEGIN:VTIMEZONE
TZID:America/Toronto
BEGIN:DAYLIGHT
TZOFFSETFROM:-0500
TZOFFSETTO:-0400
TZNAME:EDT
DTSTART:20250309T070000
END:DAYLIGHT
BEGIN:STANDARD
TZOFFSETFROM:-0400
TZOFFSETTO:-0500
TZNAME:EST
DTSTART:20251102T060000
END:STANDARD
BEGIN:DAYLIGHT
TZOFFSETFROM:-0500
TZOFFSETTO:-0400
TZNAME:EDT
DTSTART:20260308T070000
END:DAYLIGHT
BEGIN:STANDARD
TZOFFSETFROM:-0400
TZOFFSETTO:-0500
TZNAME:EST
DTSTART:20261101T060000
END:STANDARD
BEGIN:DAYLIGHT
TZOFFSETFROM:-0500
TZOFFSETTO:-0400
TZNAME:EDT
DTSTART:20270314T070000
END:DAYLIGHT
BEGIN:STANDARD
TZOFFSETFROM:-0400
TZOFFSETTO:-0500
TZNAME:EST
DTSTART:20271107T060000
END:STANDARD
END:VTIMEZONE
BEGIN:VEVENT
DTSTART;TZID=America/Toronto:20260528T183000
DTEND;TZID=America/Toronto:20260528T213000
DTSTAMP:20260422T184345
CREATED:20241010T131906Z
LAST-MODIFIED:20260326T200214Z
UID:33530-1779993000-1780003800@csnn.ca
SUMMARY:AN122B Childhood Epidemic Health Issues
DESCRIPTION:CSNN Mississauga is excited to offer the NEW Advanced Pediatric Certificate in 2025 exclusively to CSNN Grads! This certificate is comprised of 2 workshops: Part 1 Pediatric Symptomatology and Part 2 Childhood Epidemic Health Issues. The certificate will be 19.5 hours total. Receive a certificate after successful completion of each workshop plus a specialty certificate upon completion of a certificate package. \nDelivery Method: Live Online Virtual Classroom (Zoom) \nInstructor: Joanna M. Hack\, B.A. (Hons)\, R.H.N.\, M.N.B.P. (see bio) \nPart 2: Childhood Epidemic Health Issues \n\nDates: May 28\, June 4\, 11\, 18*\nTime: 6:30-9:30pm\, *6:30-8:00pm EST\n\nTo start the registration process and get course descriptions\, please click here. \nCSNN Mississauga Website \nEmail: mississauga@csnn.ca 
URL:https://csnn.ca/event/an122b-mississauga/
CATEGORIES:CSNN Mississauga
ATTACH;FMTTYPE=image/jpeg:https://csnn.ca/wp-content/uploads/2024/10/MISS-AN122B-MayJune-2026.jpg
END:VEVENT
END:VCALENDAR