BEGIN:VCALENDAR
VERSION:2.0
PRODID:-//CSNN National Page - ECPv6.15.20//NONSGML v1.0//EN
CALSCALE:GREGORIAN
METHOD:PUBLISH
X-ORIGINAL-URL:https://csnn.ca
X-WR-CALDESC:Events for CSNN National Page
REFRESH-INTERVAL;VALUE=DURATION:PT1H
X-Robots-Tag:noindex
X-PUBLISHED-TTL:PT1H
BEGIN:VTIMEZONE
TZID:America/Edmonton
BEGIN:DAYLIGHT
TZOFFSETFROM:-0700
TZOFFSETTO:-0600
TZNAME:MDT
DTSTART:20250309T090000
END:DAYLIGHT
BEGIN:STANDARD
TZOFFSETFROM:-0600
TZOFFSETTO:-0700
TZNAME:MST
DTSTART:20251102T080000
END:STANDARD
BEGIN:DAYLIGHT
TZOFFSETFROM:-0700
TZOFFSETTO:-0600
TZNAME:MDT
DTSTART:20260308T090000
END:DAYLIGHT
BEGIN:STANDARD
TZOFFSETFROM:-0600
TZOFFSETTO:-0700
TZNAME:MST
DTSTART:20261101T080000
END:STANDARD
BEGIN:DAYLIGHT
TZOFFSETFROM:-0700
TZOFFSETTO:-0600
TZNAME:MDT
DTSTART:20270314T090000
END:DAYLIGHT
BEGIN:STANDARD
TZOFFSETFROM:-0600
TZOFFSETTO:-0700
TZNAME:MST
DTSTART:20271107T080000
END:STANDARD
END:VTIMEZONE
BEGIN:VEVENT
DTSTART;TZID=America/Edmonton:20260824T100000
DTEND;TZID=America/Edmonton:20260824T133000
DTSTAMP:20260423T005841
CREATED:20231011T201338Z
LAST-MODIFIED:20260416T184810Z
UID:30350-1787565600-1787578200@csnn.ca
SUMMARY:Introduction Certificate (DAY) - CSNN Calgary
DESCRIPTION:CSNN Calgary is happy to offer the Introduction Certificate starting August 24\, 2026. \nClasses will be Live Online (Zoom) on Mondays and Thursdays\, 10:00am – 1:30pm MST. \nDownload the Registration Forms below to see the full schedule. \n[gdlr_core_button button-text=”Registration Form” button-link=”https://csnn.ca/wp-content/uploads/2026/04/CAL-IntroCertificate_RegForm_August-2026.docx” button-link-target=”_blank” margin-right=”20px” ] \n  \nThis Introduction Certificate is comprised of the first 2 courses of the Natural Nutrition Diploma Program. It provides a general understanding to the links and connections between health and nutrition. Successful completion of the certificate may be used to transfer to the full program\, provided the student meets the program’s admission policy. \nPlease email calgary@csnn.ca if you have any questions. \nCalgary Website \nhttps://csnn.ca/wp-content/uploads/2023/01/CAL-Fundamentals-of-Nutrition-Intro-Video.mp4
URL:https://csnn.ca/event/intro-csnn-calgary-aug2026day/
CATEGORIES:CSNN Calgary
ATTACH;FMTTYPE=image/jpeg:https://csnn.ca/wp-content/uploads/2023/10/CAL-Intro-Aug-2026-Day.jpg
END:VEVENT
BEGIN:VEVENT
DTSTART;TZID=America/Edmonton:20260824T180000
DTEND;TZID=America/Edmonton:20260824T213000
DTSTAMP:20260423T005841
CREATED:20260416T184835Z
LAST-MODIFIED:20260416T184959Z
UID:38094-1787594400-1787607000@csnn.ca
SUMMARY:Introduction Certificate (EVENING) - CSNN Calgary
DESCRIPTION:CSNN Calgary is happy to offer the Introduction Certificate starting August 24\, 2026. \nClasses will be Live Online (Zoom) on Mondays and Thursdays\, 6:00 – 9:30pm MST. \nDownload the Registration Forms below to see the full schedule. \n[gdlr_core_button button-text=”Registration Form” button-link=”https://csnn.ca/wp-content/uploads/2026/04/CAL-IntroCertificate_RegForm_August-2026.docx” button-link-target=”_blank” margin-right=”20px” ] \n  \nThis Introduction Certificate is comprised of the first 2 courses of the Natural Nutrition Diploma Program. It provides a general understanding to the links and connections between health and nutrition. Successful completion of the certificate may be used to transfer to the full program\, provided the student meets the program’s admission policy. \nPlease email calgary@csnn.ca if you have any questions. \nCalgary Website \nhttps://csnn.ca/wp-content/uploads/2023/01/CAL-Fundamentals-of-Nutrition-Intro-Video.mp4
URL:https://csnn.ca/event/intro-evening-csnn-calgary/
CATEGORIES:CSNN Calgary
ATTACH;FMTTYPE=image/jpeg:https://csnn.ca/wp-content/uploads/2026/04/CAL-Intro-Aug-2026-Evening.jpg
END:VEVENT
END:VCALENDAR