BEGIN:VCALENDAR
VERSION:2.0
PRODID:-//CSNN National Page - ECPv6.15.20//NONSGML v1.0//EN
CALSCALE:GREGORIAN
METHOD:PUBLISH
X-WR-CALNAME:CSNN National Page
X-ORIGINAL-URL:https://csnn.ca
X-WR-CALDESC:Events for CSNN National Page
REFRESH-INTERVAL;VALUE=DURATION:PT1H
X-Robots-Tag:noindex
X-PUBLISHED-TTL:PT1H
BEGIN:VTIMEZONE
TZID:America/Toronto
BEGIN:DAYLIGHT
TZOFFSETFROM:-0500
TZOFFSETTO:-0400
TZNAME:EDT
DTSTART:20220313T070000
END:DAYLIGHT
BEGIN:STANDARD
TZOFFSETFROM:-0400
TZOFFSETTO:-0500
TZNAME:EST
DTSTART:20221106T060000
END:STANDARD
BEGIN:DAYLIGHT
TZOFFSETFROM:-0500
TZOFFSETTO:-0400
TZNAME:EDT
DTSTART:20230312T070000
END:DAYLIGHT
BEGIN:STANDARD
TZOFFSETFROM:-0400
TZOFFSETTO:-0500
TZNAME:EST
DTSTART:20231105T060000
END:STANDARD
BEGIN:DAYLIGHT
TZOFFSETFROM:-0500
TZOFFSETTO:-0400
TZNAME:EDT
DTSTART:20240310T070000
END:DAYLIGHT
BEGIN:STANDARD
TZOFFSETFROM:-0400
TZOFFSETTO:-0500
TZNAME:EST
DTSTART:20241103T060000
END:STANDARD
END:VTIMEZONE
BEGIN:VTIMEZONE
TZID:America/Edmonton
BEGIN:DAYLIGHT
TZOFFSETFROM:-0700
TZOFFSETTO:-0600
TZNAME:MDT
DTSTART:20220313T090000
END:DAYLIGHT
BEGIN:STANDARD
TZOFFSETFROM:-0600
TZOFFSETTO:-0700
TZNAME:MST
DTSTART:20221106T080000
END:STANDARD
BEGIN:DAYLIGHT
TZOFFSETFROM:-0700
TZOFFSETTO:-0600
TZNAME:MDT
DTSTART:20230312T090000
END:DAYLIGHT
BEGIN:STANDARD
TZOFFSETFROM:-0600
TZOFFSETTO:-0700
TZNAME:MST
DTSTART:20231105T080000
END:STANDARD
BEGIN:DAYLIGHT
TZOFFSETFROM:-0700
TZOFFSETTO:-0600
TZNAME:MDT
DTSTART:20240310T090000
END:DAYLIGHT
BEGIN:STANDARD
TZOFFSETFROM:-0600
TZOFFSETTO:-0700
TZNAME:MST
DTSTART:20241103T080000
END:STANDARD
END:VTIMEZONE
BEGIN:VEVENT
DTSTART;TZID=America/Toronto:20231128T183000
DTEND;TZID=America/Toronto:20231128T200000
DTSTAMP:20260423T061643
CREATED:20231123T144712Z
LAST-MODIFIED:20231123T210406Z
UID:30625-1701196200-1701201600@csnn.ca
SUMMARY:Virtual Open House - CSNN Mississauga
DESCRIPTION:Interested in learning more about Natural Nutrition to improve your health & wellness & want to turn it into an exciting career in Holistic Nutrition? \nJoin CSNN Mississauga on Tuesday\, November 28 from 6:30 p.m. to 8:00 p.m. EST. \nThe topic for our information session is Your Body’s Secret Language: Identifying the Root Causes. A live interactive session on understanding how the body systems communicate. \nPlease email us at mississauga@csnn.ca to receive your Zoom invitation! \nCSNN Mississauga Website
URL:https://csnn.ca/event/csnn-mississauga-virtual-open-house/
CATEGORIES:CSNN Mississauga,Open House
ATTACH;FMTTYPE=image/png:https://csnn.ca/wp-content/uploads/2023/11/Mississauga-Info-Session-January-2024.png
END:VEVENT
BEGIN:VEVENT
DTSTART;TZID=America/Toronto:20231120T180000
DTEND;TZID=America/Toronto:20231120T200000
DTSTAMP:20260423T061643
CREATED:20230626T153551Z
LAST-MODIFIED:20230626T154014Z
UID:29078-1700503200-1700510400@csnn.ca
SUMMARY:Healthy Eating & Lifestyle Certificate
DESCRIPTION:Learn about a new way to look at nutrition and the role nutrition plays in your overall well-being. You will receive basic foundational knowledge about healthy fats\, good digestion\, gut health\, and much more. \nMondays & Thursdays\n7:00 PM – 9:00pm PM – MST \nTeacher: Dacia Mead\, CHNC\nTeacher: Mandy Gefle\, RN\, LHNP \nClass #1: Nov 20 – 6:00 PM – 8:00 PM MST\nClass #2: Nov 23 – 6:00 PM – 8:00 PM MST\nClass #3: Nov 27 – 6:00 PM – 8:00 PM MST\nClass #4: Nov 30 – 6:00 PM – 8:00 PM MST\nClass #5: Dec 4 – 6:00 PM – 8:00 PM MST\nClass #6: Dec 7 – 6:00 PM – 8:00 PM MST\nClass #7: Dec 11 – 6:00 PM – 8:00 PM MST\nClass #8: Dec 14 – 6:00 PM – 8:00 PM MST\nClass #9: Dec 18 – 6:00 PM – 8:00 PM MST\nClass #10: Dec 21 – 6:00 PM – 8:00 PM MST \nRegister Here
URL:https://csnn.ca/event/helc-nov2023/
CATEGORIES:CSNN Edmonton
ATTACH;FMTTYPE=image/jpeg:https://csnn.ca/wp-content/uploads/2022/05/Stock-50.jpg
END:VEVENT
BEGIN:VEVENT
DTSTART;TZID=America/Edmonton:20231003T180000
DTEND;TZID=America/Edmonton:20231003T200000
DTSTAMP:20260423T061643
CREATED:20230912T181329Z
LAST-MODIFIED:20230912T181329Z
UID:30137-1696356000-1696363200@csnn.ca
SUMMARY:Healthy Eating & Lifestyle Certificate - CSNN Calgary (Zoom)
DESCRIPTION:CSNN Calgary is offering the Healthy Eating & Lifestyle Certificate starting Tuesday October 3\, 2023. \nClasses will be held on Tuesday evenings\, 6:00-8:00pm MST. \nThroughout 10 classes in our virtual classroom\, our easy-to-understand certificate\, will guide you on quality nutrition information and help you understand how your body works and why food is incredibly important. \nThis is a great opportunity to have an introduction into nutrition and how we can incorporate it into our daily lives. \nTopics covered will include: \n\nA free class on Proper Digestion & Gut Health\nAll About Protein\nBasics of a Whole Food Pantry\nAnd More!\n\nSee Full Course Outline \nDownload Registration Form \nEmail info@csnncal.ca if you have any questions. \nCSNN Calgary Website \n 
URL:https://csnn.ca/event/healthy-eating-lifestyle-certificate-csnn-calgary-zoom/
CATEGORIES:CSNN Calgary
ATTACH;FMTTYPE=image/jpeg:https://csnn.ca/wp-content/uploads/2021/03/Healthy-Eating-and-Lifestyle-Ebook.jpg
END:VEVENT
BEGIN:VEVENT
DTSTART;TZID=America/Toronto:20230921T190000
DTEND;TZID=America/Toronto:20230921T203000
DTSTAMP:20260423T061643
CREATED:20230912T201543Z
LAST-MODIFIED:20230912T201543Z
UID:30146-1695322800-1695328200@csnn.ca
SUMMARY:Virtual Open House - CSNN Mississauga
DESCRIPTION:Interested in learning more about Natural Nutrition to improve your health & wellness & want to turn it into an exciting career in Holistic Nutrition? \nJoin us Thursday\, September 21\, 7:00 p.m. – 8:30 p.m. The topic for our information session is Introducing Fundamentals of Nutrition. A sneak peek into Mississauga’s virtual classes & some great nuggets to improve your health! \nPlease email us at  to receive your Zoom invitation! \n 
URL:https://csnn.ca/event/virtual-open-house-csnn-mississauga-4/
CATEGORIES:CSNN Mississauga,Open House
ATTACH;FMTTYPE=image/png:https://csnn.ca/wp-content/uploads/2023/05/FINAL-MISS-INFOSESSION.png
END:VEVENT
BEGIN:VEVENT
DTSTART;TZID=America/Toronto:20230907T190000
DTEND;TZID=America/Toronto:20230907T203000
DTSTAMP:20260423T061643
CREATED:20230830T145039Z
LAST-MODIFIED:20230830T145039Z
UID:30051-1694113200-1694118600@csnn.ca
SUMMARY:Virtual Open House - CSNN Mississauga
DESCRIPTION:Interested in learning more about Natural Nutrition to improve your health & wellness & want to turn it into an exciting career in Holistic Nutrition? \nAttend one of our educational interactive information sessions on Thursday September 7th from 7:00 p.m. to 8:30 p.m. for Relieving Stress: Root Connections & Management. A live session on reducing stress by learning signs\, symptoms\, management and prevention! \nPlease email us at mississauga@csnn.ca to receive your Zoom invitation!
URL:https://csnn.ca/event/virtual-open-house-csnn-mississauga-3/
CATEGORIES:CSNN Mississauga,Open House
ATTACH;FMTTYPE=image/png:https://csnn.ca/wp-content/uploads/2023/05/FINAL-MISS-INFOSESSION.png
END:VEVENT
BEGIN:VEVENT
DTSTART;TZID=America/Toronto:20230906T190000
DTEND;TZID=America/Toronto:20230906T210000
DTSTAMP:20260423T061643
CREATED:20230626T153058Z
LAST-MODIFIED:20230626T154006Z
UID:29076-1694026800-1694034000@csnn.ca
SUMMARY:Healthy Eating & Lifestyle Certificate
DESCRIPTION:Learn about a new way to look at nutrition and the role nutrition plays in your overall well-being. You will receive basic foundational knowledge about healthy fats\, good digestion\, gut health\, and much more. \nWednesdays\n7:00 PM – 9:00pm PM – MST \nTeacher: Mandy Gefle\, RN\, LHNP \nClass #1: Sep 6- 7:00 PM – 9:00 PM MST\nClass #2: Sep 13 – 7:00 PM – 9:00 PM MST\nClass #3: Sep 20 – 7:00 PM – 9:00 PM MST\nClass #4: Sep 27 – 7:00 PM – 9:00 PM MST\nClass #5: Oct 4 – 7:00 PM – 9:00 PM MST\nClass #6: Oct 11 – 7:00 PM – 9:00 PM MST\nClass #7: Oct 18 – 7:00 PM – 9:00 PM MST\nClass #8: Oct 25 – 7:00 PM – 9:00 PM MST\nClass #9: Nov 1 – 7:00 PM – 9:00 PM MST\nClass #10: Nov 8 – 7:00 PM – 9:00 PM MST \nRegister Here
URL:https://csnn.ca/event/helc-sept2023/
CATEGORIES:CSNN Edmonton
ATTACH;FMTTYPE=image/jpeg:https://csnn.ca/wp-content/uploads/2020/07/shutterstock_622381814.jpg
END:VEVENT
BEGIN:VEVENT
DTSTART;TZID=America/Toronto:20230829T190000
DTEND;TZID=America/Toronto:20230829T203000
DTSTAMP:20260423T061643
CREATED:20230824T182203Z
LAST-MODIFIED:20230824T183055Z
UID:29991-1693335600-1693341000@csnn.ca
SUMMARY:Virtual Open House - CSNN Mississauga
DESCRIPTION:Attend one of our educational interactive information sessions on Tuesday August 29th OR Thursday September 7th from 7:00 p.m. to 8:30 p.m. for Relieving Stress: Root Connections & Management. A live session on reducing stress by learning signs\, symptoms\, management and prevention! \n  \nIn addition\, CSNN Mississauga’s Branch Manager will be there to discuss the diploma program\, introductory courses & answer all your questions. You’ll also  meet a former student that will share her academic experience at CSNN Mississauga. \nPlease email us at mississauga@csnn.ca to receive your Zoom invitation!
URL:https://csnn.ca/event/virtual-open-house-csnn-mississauga-2/
CATEGORIES:CSNN Mississauga,Open House
ATTACH;FMTTYPE=image/png:https://csnn.ca/wp-content/uploads/2023/05/FINAL-MISS-INFOSESSION.png
END:VEVENT
BEGIN:VEVENT
DTSTART;TZID=America/Toronto:20230829T183000
DTEND;TZID=America/Toronto:20230829T193000
DTSTAMP:20260423T061643
CREATED:20230815T164049Z
LAST-MODIFIED:20230822T160035Z
UID:29885-1693333800-1693337400@csnn.ca
SUMMARY:Virtual Open House - CSNN Toronto
DESCRIPTION:CSNN Toronto is hosting an Open House on Tuesday\, August 29\, 2023 at 6:30pm EST. \n\nLearn about the Natural Nutrition Diploma Program and find out how it differs from other nutrition programs.\nLearn about the science-based curriculum\, case studies\, and all the other components.\nFind out more about our schedules and flexible learning formats\n\nEmail us at toronto@csnn.ca to register for the open house. \nCSNN Toronto Website
URL:https://csnn.ca/event/virtual-open-house-csnn-toronto/
CATEGORIES:CSNN Metro Toronto,Open House
ATTACH;FMTTYPE=image/png:https://csnn.ca/wp-content/uploads/2023/08/TOR-OpenHouse-banner.png
END:VEVENT
BEGIN:VEVENT
DTSTART;TZID=America/Edmonton:20230821T183000
DTEND;TZID=America/Edmonton:20230821T203000
DTSTAMP:20260423T061643
CREATED:20230811T150253Z
LAST-MODIFIED:20230811T150253Z
UID:29859-1692642600-1692649800@csnn.ca
SUMMARY:Virtual Open House - CSNN Edmonton
DESCRIPTION:Monday\, August 21st 2023 from 6:30 p.m. – 8:30 p.m. (MST) \nRegister here to get the handouts for the anxiety and digestion class.  They will be sent to you 24 hours before the workshop. \nThis session includes information on: \n\nNatural Nutrition Diploma\nEnhanced Clinical Studies\n2-year Flex Natural Nutrition Diploma Program\nHealthy Eating & Lifestyle Certificate\nFundamentals Introduction Program\n\nCome learn about the Natural Nutrition Diploma program at CSNN and join Dacia Mead\, CNHC as she walks you down the simple connection between your digestion and that little anxious monster in your gut. \nThe Natural Nutrition Program and the Enhanced Clinical Studies program are licensed by AB Government Advanced Education.  More information can be found on the Natural Nutrition Diploma at this link and information on the Enhanced Clinical Studies program can be found at this link. \nCSNN Edmonton Website \nEmail: edmonton@csnn.ca 
URL:https://csnn.ca/event/virtual-open-house-csnn-edmonton/
CATEGORIES:CSNN Edmonton,Open House
ATTACH;FMTTYPE=image/png:https://csnn.ca/wp-content/uploads/2023/08/Info-session-Anxiety-Digestion-Aug-21-2023-LinkedIn-1200x628-1.png
END:VEVENT
BEGIN:VEVENT
DTSTART;TZID=America/Edmonton:20230815T200000
DTEND;TZID=America/Edmonton:20230815T210000
DTSTAMP:20260423T061643
CREATED:20230726T133136Z
LAST-MODIFIED:20230726T133626Z
UID:29518-1692129600-1692133200@csnn.ca
SUMMARY:Virtual Open House - CSNN Edmonton
DESCRIPTION:This session includes information on: \n\nNatural Nutrition Diploma\nEnhanced Clinical Studies\n2-year Flex Natural Nutrition Diploma Program\nHealthy Eating & Lifestyle Certificate\nFundamentals Introduction Program\n\nCome learn about the Natural Nutrition Diploma program at CSNN. \nThe Natural Nutrition Program and the Enhanced Clinical Studies program are licensed by AB Government Advanced Education.  More information can be found on the Natural Nutrition Diploma at this link and information on the Enhanced Clinical Studies program can be found at this link.
URL:https://csnn.ca/event/virtualopenhouse-edmonton/
CATEGORIES:CSNN Edmonton,Open House
ATTACH;FMTTYPE=image/jpeg:https://csnn.ca/wp-content/uploads/2020/06/shutterstock_1482794711.jpg
END:VEVENT
BEGIN:VEVENT
DTSTART;TZID=America/Toronto:20230810T190000
DTEND;TZID=America/Toronto:20230810T203000
DTSTAMP:20260423T061643
CREATED:20230719T185102Z
LAST-MODIFIED:20230719T185340Z
UID:29431-1691694000-1691699400@csnn.ca
SUMMARY:Virtual Open House - CSNN Mississauga
DESCRIPTION:Interested in learning more about Natural Nutrition to improve your health & wellness & want to turn it into an exciting career in Holistic Nutrition? \nJoin us August 10th from 7:00pm – 8:30pm EST. \nPlease email us at mississauga@csnn.ca to receive your Zoom invitation!
URL:https://csnn.ca/event/virtual-open-house-csnn-mississauga/
CATEGORIES:CSNN Mississauga,Open House
ATTACH;FMTTYPE=image/png:https://csnn.ca/wp-content/uploads/2023/05/FINAL-MISS-INFOSESSION.png
END:VEVENT
BEGIN:VEVENT
DTSTART;TZID=America/Toronto:20230808T183000
DTEND;TZID=America/Toronto:20230808T200000
DTSTAMP:20260423T061643
CREATED:20230626T155209Z
LAST-MODIFIED:20230626T155333Z
UID:29087-1691519400-1691524800@csnn.ca
SUMMARY:Nutrition Basics 101 (Free\, Virtual)
DESCRIPTION:Free* Virtual Classes \nAug 8\, 10\, 15 from 6:30pm – 8:00pm MST \nJoin for one session OR join for all sessions!\n*Recommended Workbook For $9.95 (Contains all the notes from each class as well as some recipe ideas) \nTopics\n\nHow holistic nutrition relates to health\nAll about carbohydrates\, proteins\, and fats\nDigestion basics\nWhat happens when digestion causes issues\nVitamins\nMinerals\nPolyphenols\nSugar and your body\nFood suggestions\nSo much more\n\nClick Here to Register
URL:https://csnn.ca/event/nutrition-basics-101-free-virtual-aug8/
CATEGORIES:CSNN Edmonton
ATTACH;FMTTYPE=image/jpeg:https://csnn.ca/wp-content/uploads/2020/06/shutterstock_1189467997.jpg
END:VEVENT
BEGIN:VEVENT
DTSTART;TZID=America/Toronto:20230807T090000
DTEND;TZID=America/Toronto:20230807T103000
DTSTAMP:20260423T061643
CREATED:20230626T155112Z
LAST-MODIFIED:20230626T155112Z
UID:29083-1691398800-1691404200@csnn.ca
SUMMARY:Nutrition Basics 101 (Free\, Virtual)
DESCRIPTION:Free* Virtual Classes \nAug 7\, 9\, 14 from 9:00am – 10:30am MST \nJoin for one session OR join for all sessions!\n*Recommended Workbook For $9.95 (Contains all the notes from each class as well as some recipe ideas) \nTopics\n\nHow holistic nutrition relates to health\nAll about carbohydrates\, proteins\, and fats\nDigestion basics\nWhat happens when digestion causes issues\nVitamins\nMinerals\nPolyphenols\nSugar and your body\nFood suggestions\nSo much more\n\nClick Here to Register
URL:https://csnn.ca/event/nutrition-basics-101-free-virtual-aug7/
CATEGORIES:CSNN Edmonton
ATTACH;FMTTYPE=image/jpeg:https://csnn.ca/wp-content/uploads/2020/06/shutterstock_613479848.jpg
END:VEVENT
BEGIN:VEVENT
DTSTART;TZID=America/Edmonton:20230725T190000
DTEND;TZID=America/Edmonton:20230725T210000
DTSTAMP:20260423T061643
CREATED:20230713T184319Z
LAST-MODIFIED:20230713T184601Z
UID:29357-1690311600-1690318800@csnn.ca
SUMMARY:Virtual Open House - CSNN Edmonton
DESCRIPTION:Register here to get the handouts for the class on “How Food Affects The Brain”  They will be sent to you 24 hours before the workshop. \nThis session includes information on: \n\nNatural Nutrition Diploma\nEnhanced Clinical Studies\n2-year Flex Natural Nutrition Diploma Program\nHealthy Eating & Lifestyle Certificate\nFundamentals Introduction Program\n\nCome learn about the Natural Nutrition Diploma program at CSNN and join Mandy Gefle\, RN\, LHNP for a class on mental health and how food can nourish your body. Can food change mood?  Mandy will educate us on how nourishing a brain can make a big difference. \nThe Natural Nutrition Program and the Enhanced Clinical Studies program are licensed by AB Government Advanced Education.  More information can be found on the Natural Nutrition Diploma at this link and information on the Enhanced Clinical Studies program can be found at this link.
URL:https://csnn.ca/event/virtual-open-house-csnn-toronto-copy/
CATEGORIES:CSNN Edmonton,Open House
ATTACH;FMTTYPE=image/png:https://csnn.ca/wp-content/uploads/2023/06/Info-session-How-Food-Affects-The-Brain-Jul-25-2023-LinkedIn-1200x628-1.png
END:VEVENT
END:VCALENDAR